BEGIN:VCALENDAR
VERSION:2.0
CALSCALE:GREGORIAN
PRODID:adamgibbons/ics
METHOD:PUBLISH
X-PUBLISHED-TTL:PT1H
BEGIN:VEVENT
UID:252@tricity.dance
SUMMARY:The Collision Of Freedom
DTSTAMP:20260424T103203Z
DTSTART:20250628T160000Z
DTEND:20250628T215500Z
DESCRIPTION:Rok szkolno-zajęciowy Harlem Beats dobiega końca\, ale chcielib
	yśmy zakończyć\nsemestr z pompą!\nW tym roku nasze zakończenie semestru tr
	wać będzie aż trzy dni\, a w planacha\nimprezy\, warsztaty\, czill nad mor
	zem\, a to wszystko gdyż ... Łączymy nasze siły\ni inicjatywy z Muzeum Mia
	sta Gdyni w ramach obchodów "The Collision Of Freedom".\nInicjatywa ta zwi
	ązana jest z losem tancerek i tancerzy Swingowych oraz artystów\nJazzowych
	/Swingowych w okupowanej Polsce (1939-1945) ale i w Czechach i w\nNiemczec
	h ery II wojny światowej. Wydarzenie jest wspólną inicjatywą scen oraz\nin
	stytucji ze wspomnianych krajów\, a w związku z tym będziemy gościć tancer
	zy z\nBremy\, Pragi oraz innych miast\, nie tylko w Polsce... może także z
	 Twojego?\n\n-------------------------\n\nSOBOTA (28.06):\n11:00 - 12:00 -
	> Feel the beat (zajęcia do perkusji) - zajęcia zarówno dla osób\nsolo jak
	 i w parze\n12:15 - 14:15 -> Zajęcia lindy hop (poziom intermediate i wyże
	j)\n15:00 ->WYSTAWA The Collision Of Freedom - opowiadająca historię tance
	rzy i\nmuzykóów jazzowych - WSTĘP WOLNY\n18:00 -> -KONCERT DIE KLEINE SWIN
	GBRAUSE (DE) i POTAŃCÓWKA w MUZEUM MIASTA GDYNI\n+ taster przed imprezą dl
	a mieszkańców - WSTĘP WOLNY\n\nNIEDZIELA (29.06):\n12:00 - 14:00 -> Zajęci
	a slow lindy (poziom intermediate i wyżej)\n15:00 -JAZZ WALK ULICAMI GDYNI
	 (oprowadzanie z kuratorem wystawy) - WSTĘP WOLNY\n\n\n\nKoncert\, wystawa
	 oraz jazz walk są darmowe. Warsztaty płatne\, link do zapisów na\nwarszta
	ty:\n\n-> -> https://forms.gle/kDvGPQXNoRuRpSZv8 [https://forms.gle/kDvGPQ
	XNoRuRpSZv8]\n<- <-\n\n--------------\nWięcej informacji:\n\nhttps://www.f
	acebook.com/events/1226993849014064\n[https://www.facebook.com/events/1226
	993849014064]\n\nhttps://muzeumgdynia.pl/wydarzenie/koncert-die-kleine-swi
	ngbrause-swing-i-lindy-hop/\n[https://muzeumgdynia.pl/wydarzenie/koncert-d
	ie-kleine-swingbrause-swing-i-lindy-hop/]\n\nhttps://muzeumgdynia.pl/wydar
	zenie/the-collision-of-freedom-kolizje-wolnosci/\n[https://muzeumgdynia.pl
	/wydarzenie/the-collision-of-freedom-kolizje-wolnosci/]
URL:https://tricity.dance/event/the-collision-of-freedom
LOCATION:Muzeum Miasta Gdyni - ul. Zawiszy Czarnego 1A\,  81-374 Gdynia
STATUS:CONFIRMED
CATEGORIES:Gdynia,Muzyka na żywo
X-ALT-DESC;FMTTYPE=text/html:<p>Rok szkolno-zajęciowy Harlem Beats dobiega 
	końca, ale chcielibyśmy zakończyć semestr z pompą! <br>W tym roku nasze za
	kończenie semestru trwać będzie aż trzy dni, a w planacha imprezy, warszta
	ty, czill nad morzem, a to wszystko gdyż ... Łączymy nasze siły i inicjaty
	wy z Muzeum Miasta Gdyni w ramach obchodów "The Collision Of Freedom". Ini
	cjatywa ta związana jest z losem tancerek i tancerzy Swingowych oraz artys
	tów Jazzowych/Swingowych w okupowanej Polsce (1939-1945) ale i w Czechach 
	i w Niemczech ery II wojny światowej. Wydarzenie jest wspólną inicjatywą s
	cen oraz instytucji ze wspomnianych krajów, a w związku z tym będziemy goś
	cić tancerzy z Bremy, Pragi oraz innych miast, nie tylko w Polsce... może 
	także z Twojego?</p><p>-------------------------</p><p>SOBOTA (28.06):<br>
	11:00 - 12:00 -&gt; Feel the beat (zajęcia do perkusji) - zajęcia zarówno 
	dla osób solo jak i w parze<br>12:15 - 14:15 -&gt; Zajęcia lindy hop (pozi
	om intermediate i wyżej)<br>15:00 -&gt;WYSTAWA The Collision Of Freedom - 
	opowiadająca historię tancerzy i muzykóów jazzowych - <strong>WSTĘP WOLNY<
	/strong><br>18:00 -&gt; -KONCERT DIE KLEINE SWINGBRAUSE (DE) i POTAŃCÓWKA 
	w MUZEUM MIASTA GDYNI + taster przed imprezą dla mieszkańców - <strong>WST
	ĘP WOLNY</strong></p><p>NIEDZIELA (29.06):<br>12:00 - 14:00 -&gt; Zajęcia 
	slow lindy (poziom intermediate i wyżej)<br>15:00 -JAZZ WALK ULICAMI GDYNI
	 (oprowadzanie z kuratorem wystawy) - <strong>WSTĘP WOLNY</strong></p><p><
	/p><p>Koncert, wystawa oraz jazz walk są darmowe. Warsztaty płatne, link d
	o zapisów na warsztaty:</p><p><strong>-&gt; -&gt; </strong><a target="_bla
	nk" href="https://forms.gle/kDvGPQXNoRuRpSZv8"><strong>https://forms.gle/k
	DvGPQXNoRuRpSZv8</strong></a><strong> &lt;- &lt;-</strong></p><p>---------
	-----<br>Więcej informacji:</p><p><a target="_blank" href="https://www.fac
	ebook.com/events/1226993849014064">https://www.facebook.com/events/1226993
	849014064</a></p><p><a target="_blank" href="https://muzeumgdynia.pl/wydar
	zenie/koncert-die-kleine-swingbrause-swing-i-lindy-hop/">https://muzeumgdy
	nia.pl/wydarzenie/koncert-die-kleine-swingbrause-swing-i-lindy-hop/</a></p
	><p><a target="_blank" href="https://muzeumgdynia.pl/wydarzenie/the-collis
	ion-of-freedom-kolizje-wolnosci/">https://muzeumgdynia.pl/wydarzenie/the-c
	ollision-of-freedom-kolizje-wolnosci/</a></p>
END:VEVENT
END:VCALENDAR
